BEGIN:VCALENDAR
VERSION:2.0
PRODID:-//ChamberMaster//Event Calendar 2.0//EN
METHOD:PUBLISH
X-PUBLISHED-TTL:P3D
REFRESH-INTERVAL:P3D
CALSCALE:GREGORIAN
BEGIN:VEVENT
DTSTART:20140925T213000Z
DTEND:20140926T000000Z
X-MICROSOFT-CDO-ALLDAYEVENT:FALSE
SUMMARY:Weslaco Rehab 10th Anniversary
DESCRIPTION:Weslaco Rehab Hospital celebrates 10 years! Join them at a community celebration featuring an open house tour\, local vendors\, exhibits\, prizes\, food\, music and more!
X-ALT-DESC;FMTTYPE=text/html:Weslaco Rehab Hospital celebrates 10 years! Join them at a community celebration featuring an open house tour\, local vendors\, exhibits\, prizes\, food\, music and more!&nbsp\;&nbsp\;&nbsp\;&nbsp\;
LOCATION:Weslaco Rehab Hospital 906 S. James St.
UID:e.1244.5945
SEQUENCE:3
DTSTAMP:20260424T070418Z
URL:https://business.weslaco.com/events/details/weslaco-rehab-10th-anniversary-09-25-2014-5945
END:VEVENT

END:VCALENDAR
