BEGIN:VCALENDAR
VERSION:2.0
PRODID:-//ChamberMaster//Event Calendar 2.0//EN
METHOD:PUBLISH
X-PUBLISHED-TTL:P3D
REFRESH-INTERVAL:P3D
CALSCALE:GREGORIAN
BEGIN:VEVENT
DTSTART:20160303T233000Z
DTEND:20160304T010000Z
X-MICROSOFT-CDO-ALLDAYEVENT:FALSE
SUMMARY:Weslaco Retail Market Analysis Seminar
DESCRIPTION:The City of Weslaco\, Weslaco EDC and the Weslaco Chamber of Commerce teamed up with The Retail Coach to do a study on Weslaco's Retail Market.  See the results and learn about Weslaco's retail trade areas\, demographics\, psychographics and more.  This is an opportunity to learn how to increase your sales and position your business in Weslaco.
X-ALT-DESC;FMTTYPE=text/html:The City of Weslaco\, Weslaco EDC and the Weslaco Chamber of Commerce teamed up with The Retail Coach to do a study on Weslaco&rsquo\;s Retail Market.&nbsp\; See the results and learn about Weslaco&rsquo\;s retail trade areas\, demographics\, psychographics and more.&nbsp\; This is an opportunity to learn how to increase your sales and position your business in Weslaco. &nbsp\;
LOCATION:Business Visitor and Event Center 275 S. Kansas St Weslaco\, TX
UID:e.1244.10930
SEQUENCE:3
DTSTAMP:20260423T023631Z
URL:https://business.weslaco.com/events/details/weslaco-retail-market-analysis-seminar-03-03-2016-10930
END:VEVENT

END:VCALENDAR
