BEGIN:VCALENDAR
VERSION:2.0
PRODID:-//ChamberMaster//Event Calendar 2.0//EN
METHOD:PUBLISH
X-PUBLISHED-TTL:P3D
REFRESH-INTERVAL:P3D
CALSCALE:GREGORIAN
BEGIN:VEVENT
DTSTART:20230204T140000Z
DTEND:20230204T200000Z
X-MICROSOFT-CDO-ALLDAYEVENT:FALSE
SUMMARY:Weslaco Royal Pageant: Pageant Interviews
DESCRIPTION:
X-ALT-DESC;FMTTYPE=text/html:
LOCATION:
UID:e.1244.21799
SEQUENCE:3
DTSTAMP:20260421T000035Z
URL:https://business.weslaco.com/events/details/weslaco-royal-pageant-pageant-interviews-21799
END:VEVENT

END:VCALENDAR
