BEGIN:VCALENDAR
VERSION:2.0
PRODID:-//ChamberMaster//Event Calendar 2.0//EN
METHOD:PUBLISH
X-PUBLISHED-TTL:P3D
REFRESH-INTERVAL:P3D
CALSCALE:GREGORIAN
BEGIN:VEVENT
DTSTART:20220116T170000Z
DTEND:20220116T220000Z
X-MICROSOFT-CDO-ALLDAYEVENT:FALSE
SUMMARY:Weslaco Royals Enrichment Day
DESCRIPTION:Weslaco Royal Pageant Enrichment Program
X-ALT-DESC;FMTTYPE=text/html:Weslaco Royal Pageant Enrichment Program<br />\n&nbsp\;
LOCATION:Weslaco Chamber of Commerce 275 S. Kansas Ave Weslaco\, TX 78596
UID:e.1244.20596
SEQUENCE:3
DTSTAMP:20260421T220332Z
URL:https://business.weslaco.com/events/details/weslaco-royals-enrichment-day-20596
END:VEVENT

END:VCALENDAR
