BEGIN:VCALENDAR
VERSION:2.0
PRODID:-//ChamberMaster//Event Calendar 2.0//EN
METHOD:PUBLISH
X-PUBLISHED-TTL:P3D
REFRESH-INTERVAL:P3D
CALSCALE:GREGORIAN
BEGIN:VEVENT
DTSTART:20171129T160000Z
DTEND:20171129T170000Z
X-MICROSOFT-CDO-ALLDAYEVENT:FALSE
SUMMARY:Weslaco's Daily Grind Ribbon Cutting and Grand Opening
DESCRIPTION:
X-ALT-DESC;FMTTYPE=text/html:
LOCATION:409 S. Missouri Weslaco
UID:e.1244.14441
SEQUENCE:3
DTSTAMP:20260421T174053Z
URL:https://business.weslaco.com/events/details/weslaco-s-daily-grind-ribbon-cutting-and-grand-opening-14441
END:VEVENT

END:VCALENDAR
