BEGIN:VCALENDAR
VERSION:2.0
PRODID:-//ChamberMaster//Event Calendar 2.0//EN
METHOD:PUBLISH
X-PUBLISHED-TTL:P3D
REFRESH-INTERVAL:P3D
CALSCALE:GREGORIAN
BEGIN:VEVENT
DTSTART:20160924T153000Z
DTEND:20160924T210000Z
X-MICROSOFT-CDO-ALLDAYEVENT:FALSE
SUMMARY:Weslaco Scrap Metal Grand Re-Opening
DESCRIPTION:Weslaco Scrap Metal (G3 Scrap Metal) is celebrating their Grand Re-Opening! Enjoy food\, drinks\, door prizes and giveaways!
X-ALT-DESC;FMTTYPE=text/html:Weslaco&nbsp\;Scrap Metal (G3 Scrap Metal) is celebrating their Grand Re-Opening! Enjoy food\, drinks\, door prizes and giveaways!
LOCATION:512 Midway Road (NE Corner of Midway and Business 83) Weslaco\, TX
UID:e.1244.11030
SEQUENCE:3
DTSTAMP:20260422T170108Z
URL:https://business.weslaco.com/events/details/weslaco-scrap-metal-grand-re-opening-11030
END:VEVENT

END:VCALENDAR
