BEGIN:VCALENDAR
VERSION:2.0
PRODID:-//ChamberMaster//Event Calendar 2.0//EN
METHOD:PUBLISH
X-PUBLISHED-TTL:P3D
REFRESH-INTERVAL:P3D
CALSCALE:GREGORIAN
BEGIN:VEVENT
DTSTART:20170228T173000Z
DTEND:20170228T190000Z
X-MICROSOFT-CDO-ALLDAYEVENT:FALSE
SUMMARY:Weslaco State of the City Address 2017
DESCRIPTION:Mayor David Suarez presents State of the City 2017.
X-ALT-DESC;FMTTYPE=text/html:Mayor David Suarez presents State of the City 2017.
LOCATION:Knapp Conference Center 700 Knapp Medical Blvd\, Weslaco
UID:e.1244.11534
SEQUENCE:3
DTSTAMP:20260422T103501Z
URL:https://business.weslaco.com/events/details/weslaco-state-of-the-city-address-2017-11534
END:VEVENT

END:VCALENDAR
