BEGIN:VCALENDAR
VERSION:2.0
PRODID:-//ChamberMaster//Event Calendar 2.0//EN
METHOD:PUBLISH
X-PUBLISHED-TTL:P3D
REFRESH-INTERVAL:P3D
CALSCALE:GREGORIAN
BEGIN:VEVENT
DTSTART:20180228T173000Z
DTEND:20180228T190000Z
X-MICROSOFT-CDO-ALLDAYEVENT:FALSE
SUMMARY:Weslaco State of the City Address 2018
DESCRIPTION:Mayor David Suarez presents State of the City 2018.
X-ALT-DESC;FMTTYPE=text/html:Mayor David Suarez presents State of the City 2018.
LOCATION:Knapp Conference Center 700 Knapp Medical Blvd\, Weslaco
UID:e.1244.14537
SEQUENCE:3
DTSTAMP:20260421T142815Z
URL:https://business.weslaco.com/events/details/weslaco-state-of-the-city-address-2018-14537
END:VEVENT

END:VCALENDAR
