BEGIN:VCALENDAR
VERSION:2.0
PRODID:-//ChamberMaster//Event Calendar 2.0//EN
METHOD:PUBLISH
X-PUBLISHED-TTL:P3D
REFRESH-INTERVAL:P3D
CALSCALE:GREGORIAN
BEGIN:VEVENT
DTSTART:20181207T000000Z
DTEND:20181207T014500Z
X-MICROSOFT-CDO-ALLDAYEVENT:FALSE
SUMMARY:Weslaco Tree Lighting Ceremony
DESCRIPTION:
X-ALT-DESC;FMTTYPE=text/html:
LOCATION:Weslaco City Hall 355 S. Kansas
UID:e.1244.17030
SEQUENCE:3
DTSTAMP:20260420T194300Z
URL:https://business.weslaco.com/events/details/weslaco-tree-lighting-ceremony-17030
END:VEVENT

END:VCALENDAR
