BEGIN:VCALENDAR
VERSION:2.0
PRODID:-//ChamberMaster//Event Calendar 2.0//EN
METHOD:PUBLISH
X-PUBLISHED-TTL:P3D
REFRESH-INTERVAL:P3D
CALSCALE:GREGORIAN
BEGIN:VEVENT
DTSTART:20180620T230000Z
DTEND:20180621T010000Z
X-MICROSOFT-CDO-ALLDAYEVENT:FALSE
SUMMARY:Whataburger Anniversary Celebration
DESCRIPTION:Whataburger is celebrating their one-year anniversary! Enjoy family friendly activities including DJ\, photo booth\, an appearance by Whataguy and a chance to win free Whataburger for a year! First 100 dine-in customers will receive a pair of sunglasses! Print out the flier for a free Whataburger with purchase of a medium fry and 32 oz. drink from 6 pm to 8 pm.
X-ALT-DESC;FMTTYPE=text/html:Whataburger is celebrating their one-year anniversary! Enjoy family friendly activities including DJ\, photo booth\, an appearance by Whataguy and a chance to win free Whataburger for a year! First 100 dine-in customers will receive a pair of sunglasses! Print out the flier for a free Whataburger with purchase of a medium fry and 32 oz. drink from 6 pm to 8 pm.
LOCATION:1520 E. Business 83 Weslaco TX 83
UID:e.1244.16906
SEQUENCE:3
DTSTAMP:20260421T055542Z
URL:https://business.weslaco.com/events/details/whataburger-anniversary-celebration-16906
END:VEVENT

END:VCALENDAR
