BEGIN:VCALENDAR
VERSION:2.0
PRODID:-//ChamberMaster//Event Calendar 2.0//EN
METHOD:PUBLISH
X-PUBLISHED-TTL:P3D
REFRESH-INTERVAL:P3D
CALSCALE:GREGORIAN
BEGIN:VEVENT
DTSTART:20191117T003000Z
DTEND:20191117T043000Z
X-MICROSOFT-CDO-ALLDAYEVENT:FALSE
SUMMARY:Whole Hoggin' at Teddy's Barbecue
DESCRIPTION:Teddy's Barebecue\, along with Salt & Fire Barbeque Co. and Uncle Chops Smokehouse Burgers\, are bringing the Valley some Whole Hog Barbecue\, cooked Carolina style in a brick pit over oak coals. Live entertainment by Valley Grit from 7 pm-10 pm. Ticket includes a whole hog plate (1/2 lb\, 3 scratch made sides)\, a dessert\, and complimentary beverages. If you don't have a chance to buy your tickets online\, a limited amount of tickets will be for sale at the door. You don't want to miss this first of its kind event!
X-ALT-DESC;FMTTYPE=text/html:<span data-offset-key="ca7sd-2-0" style="color: rgb(47\, 54\, 56)\; font-family: &quot\;Open Sans&quot\;\, &quot\;Helvetica Neue&quot\;\, Helvetica\, Arial\; font-size: 14px\; white-space: pre-wrap\;"><span data-text="true">Teddy&#39\;s Barebecue\, along with Salt &amp\; Fire Barbeque Co. and Uncle Chops Smokehouse Burgers\, are bringing the Valley some Whole Hog Barbecue\, cooked Carolina style in a brick pit over oak coals. Live entertainment by Valley Grit from 7 pm-10 pm. Ticket includes a whole hog plate (1/2 lb\, 3 scratch made sides)\, a dessert\, and complimentary beverages. If you don&#39\;t have a chance to buy your tickets online\, a limited amount of tickets will be for sale at the door. You don&#39\;t want to miss this first of its kind event! </span></span>
LOCATION:Teddy's Barbecue 2807 N. Texas Blvd. Weslaco\, TX
UID:e.1244.18825
SEQUENCE:3
DTSTAMP:20260420T012906Z
URL:https://business.weslaco.com/events/details/whole-hoggin-at-teddy-s-barbecue-18825
END:VEVENT

END:VCALENDAR
