BEGIN:VCALENDAR
VERSION:2.0
PRODID:-//ChamberMaster//Event Calendar 2.0//EN
METHOD:PUBLISH
X-PUBLISHED-TTL:P3D
REFRESH-INTERVAL:P3D
CALSCALE:GREGORIAN
BEGIN:VEVENT
DTSTART:20180513T190000Z
DTEND:20180513T220000Z
X-MICROSOFT-CDO-ALLDAYEVENT:FALSE
SUMMARY:WHS Drama presents Little Shop of Horrors
DESCRIPTION:ITheatre at The Tower is proud to host\, WHS's Little Shop of Horrors.  Come experience this wonderful musical.\n\n\n\nLittle Shop of Horrors is a delectable sci-fi horror musical with an electrifying 1960s pop/rock score by Alan Menken and Howard Ashman.\n\nSeymour Krelborn is a meek and dejected assistant at a floral shop who happens upon a strange plant\, which he affectionately names "Audrey II" after his crush at the shop. Little does he know that this strange and unusual plant will develop a soulful R&B voice\, a potty mouth\, and an unquenchable thirst for HUMAN BLOOD.\n\nAs Audrey II grows bigger and meaner\, the carnivorous plant promises limitless fame and fortune to Seymour\, as long as he continues providing a fresh supply of blood. Just when it's too late\, Seymour discovers Audrey II's extra-terrestrial origins and his true drive for world-domination.
X-ALT-DESC;FMTTYPE=text/html:<span style="color:#202020\;"><span style="font-family:arial\,sans-serif\;"><span style="font-size:10.5pt\;">ITheatre at The Tower is proud to host\, WHS&#39\;s Little Shop of Horrors.&nbsp\; Come experience this wonderful musical.</span></span></span><br />\n<br />\n<em><span style="color:#202020\;"><span style="font-family:helvetica\,sans-serif\;"><span style="font-size:10.5pt\;">Little Shop of Horrors</span></span></span></em><span style="color:#202020\;"><span style="font-family:helvetica\,sans-serif\;"><span style="font-size:10.5pt\;">&nbsp\;is a delectable sci-fi horror musical with an electrifying 1960s pop/rock score by Alan Menken and Howard Ashman.</span></span></span><br />\n<span style="color:#202020\;"><span style="font-family:helvetica\,sans-serif\;"><span style="font-size:10.5pt\;">Seymour Krelborn is a meek and dejected assistant at a floral shop who happens upon a strange plant\, which he affectionately names &ldquo\;Audrey II&rdquo\; after his crush at the shop. Little does he know that this strange and unusual plant will develop a soulful R&amp\;B voice\, a potty mouth\, and an unquenchable thirst for HUMAN BLOOD.</span></span></span><br />\n<span style="color:#202020\;"><span style="font-family:helvetica\,sans-serif\;"><span style="font-size:10.5pt\;">As Audrey II grows bigger and meaner\, the carnivorous plant promises limitless fame and fortune to Seymour\, as long as he continues providing a fresh supply of blood. Just when it&rsquo\;s too late\, Seymour discovers Audrey II&rsquo\;s extra-terrestrial origins and his true drive for world-domination.</span></span></span><br />\n&nbsp\;
LOCATION:Tower Theater 120 S. Kansas Ave.
UID:e.1244.16891
SEQUENCE:3
DTSTAMP:20260421T080122Z
URL:https://business.weslaco.com/events/details/whs-drama-presents-little-shop-of-horrors-16891
END:VEVENT

END:VCALENDAR
