BEGIN:VCALENDAR
VERSION:2.0
PRODID:-//ChamberMaster//Event Calendar 2.0//EN
METHOD:PUBLISH
X-PUBLISHED-TTL:P3D
REFRESH-INTERVAL:P3D
CALSCALE:GREGORIAN
BEGIN:VEVENT
DTSTART:20161015T000000Z
DTEND:20161015T010000Z
X-MICROSOFT-CDO-ALLDAYEVENT:FALSE
SUMMARY:Wild Parrot Survey
DESCRIPTION:Estero Llano Grande State Park will be counting Red-crowned Parrots as they gather in flocks to roost for the night. Red-crowned Parrots are a species of conservation concern for Texas. Surveyors will watch and listen for parrots at known roosting areas in different parts of the valley. The goal is to estimate the total number of birds in each area at one time. If you're interested in helping\, contact john.yochum@tpwd.texas.gov.
X-ALT-DESC;FMTTYPE=text/html:<span style="color: rgb(75\, 79\, 86)\; font-family: helvetica\, arial\, sans-serif\; font-size: 14px\;">Estero Llano Grande State Park will be counting Red-crowned Parrots as they gather in flocks to roost for the night. Red-crowned Parrots are a species of conservation concern for Texas. Surveyors will watch and listen for parrots at known roosting areas in different parts of the valley. The goal is to estimate the total number of birds in each area at one time. If you&rsquo\;re interested in helping\, contact john.yochum@tpwd.texas.gov.</span>
LOCATION:Valley Nature Center 301 S. Border
UID:e.1244.11054
SEQUENCE:3
DTSTAMP:20260422T150939Z
URL:https://business.weslaco.com/events/details/wild-parrot-survey-11054
END:VEVENT

END:VCALENDAR
