BEGIN:VCALENDAR
VERSION:2.0
PRODID:-//ChamberMaster//Event Calendar 2.0//EN
METHOD:PUBLISH
X-PUBLISHED-TTL:P3D
REFRESH-INTERVAL:P3D
CALSCALE:GREGORIAN
BEGIN:VEVENT
DTSTART:20131203T150000Z
DTEND:20131203T170000Z
X-MICROSOFT-CDO-ALLDAYEVENT:FALSE
SUMMARY:Wildlife Photography Walks at Santa Ana NWR
DESCRIPTION:
X-ALT-DESC;FMTTYPE=text/html:
LOCATION:Santa Ana National Wildlife Refuge 7 miles south of Alamo on FM 907 about 1/4 mile east on Highway 281
UID:e.1244.3621
SEQUENCE:3
DTSTAMP:20260425T005853Z
URL:https://business.weslaco.com/events/details/wildlife-photography-walks-at-santa-ana-nwr-12-03-2013-3621
END:VEVENT

END:VCALENDAR
