BEGIN:VCALENDAR
VERSION:2.0
PRODID:-//ChamberMaster//Event Calendar 2.0//EN
METHOD:PUBLISH
X-PUBLISHED-TTL:P3D
REFRESH-INTERVAL:P3D
CALSCALE:GREGORIAN
BEGIN:VEVENT
DTSTART:20150127T150000Z
DTEND:20150127T190000Z
X-MICROSOFT-CDO-ALLDAYEVENT:FALSE
SUMMARY:Winter Ranch RV Resort Annual Quilt Show
DESCRIPTION:Many fabulous quilts\, wall hangings\, clothing\, purses\, etc. Quilt turning\, 10:30 am and 12:00 noon Vendors: Fabrics\, Supplies\, Notions\, etc. Boutique and Second Hand Rose Door Prizes Admission: $2.00/refreshments included Proceeds go to the Quilters for the Needy
X-ALT-DESC;FMTTYPE=text/html:Many fabulous quilts\, wall hangings\, clothing\, purses\, etc. Quilt turning\, 10:30 am and 12:00 noon Vendors: Fabrics\, Supplies\, Notions\, etc. Boutique and Second Hand Rose Door Prizes Admission: $2.00/refreshments included Proceeds go to the Quilters for the Needy
LOCATION:Winter Ranch RV Resort\, 600 State Highway 495\, Alamo\, Texas
UID:e.1244.6004
SEQUENCE:3
DTSTAMP:20260424T021118Z
URL:https://business.weslaco.com/events/details/winter-ranch-rv-resort-annual-quilt-show-01-27-2015-6004
END:VEVENT

END:VCALENDAR
