BEGIN:VCALENDAR
VERSION:2.0
PRODID:-//ChamberMaster//Event Calendar 2.0//EN
METHOD:PUBLISH
X-PUBLISHED-TTL:P3D
REFRESH-INTERVAL:P3D
CALSCALE:GREGORIAN
BEGIN:VEVENT
DTSTART:20191021T223000Z
DTEND:20191022T000000Z
X-MICROSOFT-CDO-ALLDAYEVENT:FALSE
SUMMARY:WISD and Mayor Joe V. Sanchez Public Library Family Literacy Night
DESCRIPTION:Weslaco ISD and Mayor Joe V. Sanchez Public Library invite you to a Family Literacy Night. Goodie bags for all participants\, book baskets will be raffled. Special performance by author Claudia Villarreal. Special guest authors Rey Banda and Lamar Jones. Hosted by WISD Elementary Librarians. Community partners: HEB Reads\, The Storybook Garden and Weslaco ISD.
X-ALT-DESC;FMTTYPE=text/html:Weslaco ISD and Mayor Joe V. Sanchez Public Library invite you to a Family Literacy Night. Goodie bags for all participants\, book baskets will be raffled. Special performance by author Claudia Villarreal. Special guest authors Rey Banda and Lamar Jones. Hosted by WISD Elementary Librarians. Community partners: HEB Reads\, The Storybook Garden and Weslaco ISD.
LOCATION:Mayor Joe V. Sanchez Public Library 525 S. Kansas Ave. Weslaco
UID:e.1244.18808
SEQUENCE:3
DTSTAMP:20260420T032023Z
URL:https://business.weslaco.com/events/details/wisd-and-mayor-joe-v-sanchez-public-library-family-literacy-night-18808
END:VEVENT

END:VCALENDAR
