BEGIN:VCALENDAR
VERSION:2.0
PRODID:-//ChamberMaster//Event Calendar 2.0//EN
METHOD:PUBLISH
X-PUBLISHED-TTL:P3D
REFRESH-INTERVAL:P3D
CALSCALE:GREGORIAN
BEGIN:VEVENT
DTSTART:20170222T230000Z
DTEND:20170223T010000Z
X-MICROSOFT-CDO-ALLDAYEVENT:FALSE
SUMMARY:WISD CTE Community Expo
DESCRIPTION:Culinary Arts
X-ALT-DESC;FMTTYPE=text/html:Culinary Arts
LOCATION:700 S. Bridge
UID:e.1244.11539
SEQUENCE:3
DTSTAMP:20260422T083736Z
URL:https://business.weslaco.com/events/details/wisd-cte-community-expo-11539
END:VEVENT

END:VCALENDAR
