BEGIN:VCALENDAR
VERSION:2.0
PRODID:-//ChamberMaster//Event Calendar 2.0//EN
METHOD:PUBLISH
X-PUBLISHED-TTL:P3D
REFRESH-INTERVAL:P3D
CALSCALE:GREGORIAN
BEGIN:VEVENT
DTSTART:20171209T000000Z
DTEND:20171209T020000Z
X-MICROSOFT-CDO-ALLDAYEVENT:FALSE
SUMMARY:WISD Fine Arts A Hometown Christmas
DESCRIPTION:December 1 - ACE Program Dance Recital
X-ALT-DESC;FMTTYPE=text/html:December 1 - ACE Program Dance Recital
LOCATION:WISD Performing Arts Center 506 E. 6th Street
UID:e.1244.14448
SEQUENCE:3
DTSTAMP:20260421T160220Z
URL:https://business.weslaco.com/events/details/wisd-fine-arts-a-hometown-christmas-12-08-2017-14448
END:VEVENT

END:VCALENDAR
