BEGIN:VCALENDAR
VERSION:2.0
PRODID:-//ChamberMaster//Event Calendar 2.0//EN
METHOD:PUBLISH
X-PUBLISHED-TTL:P3D
REFRESH-INTERVAL:P3D
CALSCALE:GREGORIAN
BEGIN:VEVENT
DTSTART:20171220T010000Z
DTEND:20171220T030000Z
X-MICROSOFT-CDO-ALLDAYEVENT:FALSE
SUMMARY:WISD Fine Arts A Hometown Christmas
DESCRIPTION:December 7 - Weslaco East HS Choirs\n\nDecember 11 - Weslaco East HS Bands\n\nDecember 12 - Weslaco East HS Orchestras\n\nDecember 15 - Weslaco HS and East Mariachi\n\nDecember 18 - Cuellar Middle School Bands\n\nDecember 19 - Mary Hoge Middle School Bands\n\nDecember 21 - Weslaco HS Choirs
X-ALT-DESC;FMTTYPE=text/html:December 7 - Weslaco East HS Choirs<br />\nDecember 11 - Weslaco East HS Bands<br />\nDecember 12 - Weslaco East HS Orchestras<br />\nDecember 15 - Weslaco HS and East Mariachi<br />\nDecember 18 - Cuellar Middle School Bands<br />\nDecember 19 - Mary Hoge Middle School Bands<br />\nDecember 21 - Weslaco HS Choirs
LOCATION:WISD Performing Arts Center 506 E. 6th Street
UID:e.1244.14457
SEQUENCE:3
DTSTAMP:20260421T160048Z
URL:https://business.weslaco.com/events/details/wisd-fine-arts-a-hometown-christmas-14457
END:VEVENT

END:VCALENDAR
