BEGIN:VCALENDAR
VERSION:2.0
PRODID:-//ChamberMaster//Event Calendar 2.0//EN
METHOD:PUBLISH
X-PUBLISHED-TTL:P3D
REFRESH-INTERVAL:P3D
CALSCALE:GREGORIAN
BEGIN:VEVENT
DTSTART:20140208T000000Z
DTEND:20140208T020000Z
X-MICROSOFT-CDO-ALLDAYEVENT:FALSE
SUMMARY:WISD Folklorico Recital
DESCRIPTION:"Sights and Sounds of Mexico"
X-ALT-DESC;FMTTYPE=text/html:&quot\;Sights and Sounds of Mexico&quot\;
LOCATION:WISD Performing Arts Center 506 E. Sixth St.
UID:e.1244.5872
SEQUENCE:3
DTSTAMP:20260424T212353Z
URL:https://business.weslaco.com/events/details/wisd-folklorico-recital-02-07-2014-5872
END:VEVENT

END:VCALENDAR
