BEGIN:VCALENDAR
VERSION:2.0
PRODID:-//ChamberMaster//Event Calendar 2.0//EN
METHOD:PUBLISH
X-PUBLISHED-TTL:P3D
REFRESH-INTERVAL:P3D
CALSCALE:GREGORIAN
BEGIN:VEVENT
DTSTART:20141014T230000Z
DTEND:20141015T010000Z
X-MICROSOFT-CDO-ALLDAYEVENT:FALSE
SUMMARY:WISD School Board and City Commission Candidates' Forum
DESCRIPTION:Weslaco ISD School Board candidates for Places 4\, 5\, 6 & 7  and City Commission candidates Places 2 & 3 will be on hand answering questions and discussing issues.
X-ALT-DESC;FMTTYPE=text/html:Weslaco&nbsp\;ISD School Board candidates for Places 4\, 5\, 6 &amp\; 7 &nbsp\;and&nbsp\;City Commission candidates Places 2 &amp\; 3 will be on hand answering questions and discussing issues.
LOCATION:Business Visitor & Event Center 275 S. Kansas
UID:e.1244.5962
SEQUENCE:3
DTSTAMP:20260424T070755Z
URL:https://business.weslaco.com/events/details/wisd-school-board-and-city-commission-candidates-forum-10-14-2014-5962
END:VEVENT

END:VCALENDAR
