BEGIN:VCALENDAR
VERSION:2.0
PRODID:-//ChamberMaster//Event Calendar 2.0//EN
METHOD:PUBLISH
X-PUBLISHED-TTL:P3D
REFRESH-INTERVAL:P3D
CALSCALE:GREGORIAN
BEGIN:VEVENT
DTSTART:20161011T230000Z
DTEND:20161012T010000Z
X-MICROSOFT-CDO-ALLDAYEVENT:FALSE
SUMMARY:WISD School Board and City Commission Candidates' Forum
DESCRIPTION:Weslaco ISD School Board candidates   and City Commission candidates will be on hand answering questions and discussing issues.
X-ALT-DESC;FMTTYPE=text/html:Weslaco&nbsp\;ISD School Board candidates &nbsp\; and&nbsp\;City Commission candidates will be on hand answering questions and discussing issues.
LOCATION:Business Visitor & Event Center 275 S. Kansas
UID:e.1244.11032
SEQUENCE:3
DTSTAMP:20260422T164824Z
URL:https://business.weslaco.com/events/details/wisd-school-board-and-city-commission-candidates-forum-11032
END:VEVENT

END:VCALENDAR
