BEGIN:VCALENDAR
VERSION:2.0
PRODID:-//ChamberMaster//Event Calendar 2.0//EN
METHOD:PUBLISH
X-PUBLISHED-TTL:P3D
REFRESH-INTERVAL:P3D
CALSCALE:GREGORIAN
BEGIN:VEVENT
DTSTART:20150724T140000Z
DTEND:20150724T160000Z
X-MICROSOFT-CDO-ALLDAYEVENT:FALSE
SUMMARY:Women's Business Center Seminar - Entrepreneurship 101
DESCRIPTION:Natasha Lucio\, Business Counselor from the Women's Business Center and Veronica Ortega from the U.S. Small Business Administration will give an overview on starting up your own business\, including:\n\n\n	Know the questions you need to ask yourself before starting a business\n	Get advice on how and what you need to do to prepare yourself in a step by step process\n	Engage in an interactive course through Dreambuilder\n	Learn basic business information needed to know to start a business
X-ALT-DESC;FMTTYPE=text/html:<p>Natasha Lucio\, Business Counselor from the Women&#39\;s Business Center and Veronica Ortega from the U.S. Small Business Administration will give an overview on starting up your own business\, including:</p>\n\n<ul>\n	<li>Know the questions you need to ask yourself before starting a business</li>\n	<li>Get advice on how and what you need to do to prepare yourself in a step by step process</li>\n	<li>Engage in an interactive course through Dreambuilder</li>\n	<li>Learn basic business information needed to know to start a business</li>\n</ul>\n
LOCATION:Weslaco Business Visitor & Event Center
UID:e.1244.6702
SEQUENCE:3
DTSTAMP:20260423T150251Z
URL:https://business.weslaco.com/events/details/women-s-business-center-seminar-entrepreneurship-101-07-24-2015-6702
END:VEVENT

END:VCALENDAR
