BEGIN:VCALENDAR
VERSION:2.0
PRODID:-//ChamberMaster//Event Calendar 2.0//EN
METHOD:PUBLISH
X-PUBLISHED-TTL:P3D
REFRESH-INTERVAL:P3D
CALSCALE:GREGORIAN
BEGIN:VEVENT
DTSTART:20180717T223000Z
DTEND:20180718T003000Z
X-MICROSOFT-CDO-ALLDAYEVENT:FALSE
SUMMARY:Women Who Lead Summer Mixer
DESCRIPTION:Children's Advocacy Center of Hidalgo County is hosting a Women Who Lead Mixer at University Draft House in Edinburg\, 5:30 pm. Enjoy food and drink\, artwork and raffles!
X-ALT-DESC;FMTTYPE=text/html:<a class="profileLink" data-hovercard="/ajax/hovercard/page.php?id=702700739861080&amp\;extragetparams=%7B%22fref%22%3A%22mentions%22%7D" data-hovercard-prefer-more-content-show="1" href="https://www.facebook.com/CACHidalgo/?fref=mentions" id="js_22">Children&#39\;s Advocacy Center of Hidalgo County</a> is hosting a Women Who Lead Mixer at University Draft House in Edinburg\, 5:30 pm. Enjoy food and drink\, artwork and raffles!
LOCATION:University Draft House 2405 W. Universtiy Dr. Edinburg\, TX
UID:e.1244.16940
SEQUENCE:3
DTSTAMP:20260421T043440Z
URL:https://business.weslaco.com/events/details/women-who-lead-summer-mixer-16940
END:VEVENT

END:VCALENDAR
