BEGIN:VCALENDAR
VERSION:2.0
PRODID:-//ChamberMaster//Event Calendar 2.0//EN
METHOD:PUBLISH
X-PUBLISHED-TTL:P3D
REFRESH-INTERVAL:P3D
CALSCALE:GREGORIAN
BEGIN:VEVENT
DTSTART:20181019T180000Z
DTEND:20181019T210000Z
X-MICROSOFT-CDO-ALLDAYEVENT:FALSE
SUMMARY:Worden CEU Series - Adult Emergency Mental Health
DESCRIPTION:Worden School of Social Service at Our Lady of the Lake University presents Worden CEU Series - Adult Emergency Mental Health: Engagement\, Assessment and Intervention. Presented by speaker David Estringel\, LCSW-S\, BCD\, C-ASWCM\, CART\n\nThis session will grant 3.0 CEUs applicable to the following professions: Licensed Master Social Worker\, Licensed Clinical Social Worker.\n\n\n\nFor further information\, contact: Worden Field Education Office by phone at 210-528-7142 or email fielded@ollusa.edu.
X-ALT-DESC;FMTTYPE=text/html:<p>Worden School of Social Service at Our Lady of the Lake University presents Worden CEU Series - Adult Emergency Mental Health: Engagement\, Assessment and Intervention. Presented by speaker David Estringel\, LCSW-S\, BCD\, C-ASWCM\, CART</p>\n\n<p>This session will grant 3.0 CEUs applicable to the following professions: Licensed Master Social Worker\, Licensed Clinical Social Worker.<br />\n<br />\nFor further information\, contact: Worden Field Education Office by phone at 210-528-7142 or email fielded@ollusa.edu.</p>\n
LOCATION:Our Lady of the Lake University - RGV Campus 1650 S. Main St La Feria\, TX 78559
UID:e.1244.16986
SEQUENCE:3
DTSTAMP:20260420T233041Z
URL:https://business.weslaco.com/events/details/worden-ceu-series-adult-emergency-mental-health-16986
END:VEVENT

END:VCALENDAR
