BEGIN:VCALENDAR
VERSION:2.0
PRODID:-//ChamberMaster//Event Calendar 2.0//EN
METHOD:PUBLISH
X-PUBLISHED-TTL:P3D
REFRESH-INTERVAL:P3D
CALSCALE:GREGORIAN
BEGIN:VEVENT
DTSTART:20180419T133000Z
DTEND:20180419T153000Z
X-MICROSOFT-CDO-ALLDAYEVENT:FALSE
SUMMARY:Workplace Violence Workshops
DESCRIPTION:Join the Weslaco Chamber and Weslaco PD for two back-to-back workshops that will assist local businesses and organizations with real-world scenarios\, preventive recommendations\, and action plans for emergencies. Sponsored by Montalvo Insurance and Smith Security Group.\n\n\n\nPreventing Violence in the Workplace\n\n- Identify perpetrators\, causes\, and warning signs\n\n- Common acts of violence from harassment to intimidation or physical harm\n\n- Recommendations and actions to prevent violence and protect your work team\n\n\n\nActive Shooter   How to Respond\n\n- How to respond when active shooter is in your vicinity\n\n- How to respond when law enforcement arrives\n\n- Components of an Emergency Action Plan & training employees\n\n\n\nThis event is FREE for members\, $20 for non-members. Call 956-968-2102 to RSVP.
X-ALT-DESC;FMTTYPE=text/html:<span class="_4n-j _3cht fsl" data-testid="event-permalink-details">Join the Weslaco Chamber and Weslaco PD for two back-to-back workshops that will assist local businesses and organizations with real-world scenarios\, preventive recommendations\, and action plans for emergencies. Sponsored by Montalvo Insurance and Smith Security Group.<br />\n<br />\nPreventing Violence in the Workplace<br />\n- Identify perpetrators\, causes\, and warning signs<br />\n- Common acts of violence from harassment to intimidation or physical harm<br />\n- Recommendations and actions to prevent violence and protect your work team<br />\n<br />\nActive Shooter &ndash\; How to Respond<br />\n- How to respond when active shooter is in your vicinity<br />\n- How to respond when law enforcement arrives<br />\n- Components of an Emergency Action Plan &amp\; training employees<br />\n<br />\nThis event is FREE for members\, $20 for non-members. Call 956-968-2102 to RSVP.</span>
LOCATION:Business Visitor & Event Center 275 S. Kansas
UID:e.1244.15861
SEQUENCE:3
DTSTAMP:20260421T093230Z
URL:https://business.weslaco.com/events/details/workplace-violence-workshops-15861
END:VEVENT

END:VCALENDAR
