BEGIN:VCALENDAR
VERSION:2.0
PRODID:-//ChamberMaster//Event Calendar 2.0//EN
METHOD:PUBLISH
X-PUBLISHED-TTL:P3D
REFRESH-INTERVAL:P3D
CALSCALE:GREGORIAN
BEGIN:VEVENT
DTSTART:20190721T133000Z
DTEND:20190721T153000Z
X-MICROSOFT-CDO-ALLDAYEVENT:FALSE
SUMMARY:World Birding Center Walks
DESCRIPTION:With over 300 species of birds identified within our park and many of the Valley specialty birds you just can't see outside of the Rio Grande Valley\, our guided bird walks are a must for everyone. Whether you are new to birding and ready to learn your new outdoor obsession or if you are a seasoned and traveled expert with years of experience\, this bird walk is sure to be an amazing time. If it's too hot\, and trail conditions permit it\, we can bird from a quiet electric tram! Free with park admission ($5 for adults\, children free)\, all ages and all skill levels\, no pets please. Family-friendly. Meet on the deck just outside the Visitor Center Park Store.
X-ALT-DESC;FMTTYPE=text/html:<span style="color: rgb(29\, 33\, 41)\; font-family: Helvetica\, Arial\, sans-serif\; font-size: 14px\; white-space: pre-wrap\;">With over 300 species of birds identified within our park and many of the Valley specialty birds you just can&#39\;t see outside of the Rio Grande Valley\, our guided bird walks are a must for everyone. Whether you are new to birding and ready to learn your new outdoor obsession or if you are a seasoned and traveled expert with years of experience\, this bird walk is sure to be an amazing time. If it&#39\;s too hot\, and trail conditions permit it\, we can bird from a quiet electric tram! Free with park admission ($5 for adults\, children free)\, all ages and all skill levels\, no pets please. Family-friendly. Meet on the deck just outside the Visitor Center Park Store.</span>
LOCATION:Estero Llano Grande State Park
UID:e.1244.18710
SEQUENCE:3
DTSTAMP:20260420T080418Z
URL:https://business.weslaco.com/events/details/world-birding-center-walks-07-21-2019-18710
END:VEVENT

END:VCALENDAR
