BEGIN:VCALENDAR
VERSION:2.0
PRODID:-//ChamberMaster//Event Calendar 2.0//EN
METHOD:PUBLISH
X-PUBLISHED-TTL:P3D
REFRESH-INTERVAL:P3D
CALSCALE:GREGORIAN
BEGIN:VEVENT
DTSTART:20141006T140000Z
DTEND:20141006T210000Z
X-MICROSOFT-CDO-ALLDAYEVENT:FALSE
SUMMARY:World Class Training Customer Service Excellence Seminar
DESCRIPTION:World-Class Training presents Customer Service Excellence\, a powerful program for frontline employees.  There are six powerful lessons to help you win and keep customers - Delivering superior customer service\, communicating with customers\, managing customer styles effectively\, resolving customer problems and complaints\, dealing with angry customers and professional telephone skills.
X-ALT-DESC;FMTTYPE=text/html:World-Class Training presents Customer Service Excellence\, a powerful program for frontline employees. &nbsp\;There are six powerful lessons to help you win and keep customers - Delivering superior customer service\, communicating with customers\, managing customer styles effectively\, resolving customer problems and complaints\, dealing with angry customers and professional telephone skills.
LOCATION:Business\, Visitor & Event Center 275 S. Kansas
UID:e.1244.5947
SEQUENCE:3
DTSTAMP:20260424T051338Z
URL:https://business.weslaco.com/events/details/world-class-training-customer-service-excellence-seminar-10-06-2014-5947
END:VEVENT

END:VCALENDAR
