BEGIN:VCALENDAR
VERSION:2.0
PRODID:-//ChamberMaster//Event Calendar 2.0//EN
METHOD:PUBLISH
X-PUBLISHED-TTL:P3D
REFRESH-INTERVAL:P3D
CALSCALE:GREGORIAN
BEGIN:VEVENT
DTSTART:20150804T133000Z
DTEND:20150804T213000Z
X-MICROSOFT-CDO-ALLDAYEVENT:FALSE
SUMMARY:World-Class Training Seminar - Successful Supervisor
DESCRIPTION:World-Class Training presents Successful Supervisor\, a one-day power packed program.  Master the skills you need to achieve supervisory excellence as a frontline supervisor.  You will cover:\n\n\n	Transitioning from employee to supervisor\n	Motivation challenges and motivating followers\n	Leadership styles and leading followers\n	Communicating effectively with employees\n	Coaching employees for stronger performance\n\nThis seminar will earn 7 CEU's.
X-ALT-DESC;FMTTYPE=text/html:<p>World-Class Training presents Successful Supervisor\, a one-day power packed program. &nbsp\;Master the skills you need to achieve supervisory excellence as a frontline supervisor. &nbsp\;You will cover:</p>\n\n<ul>\n	<li>Transitioning from employee to supervisor</li>\n	<li>Motivation challenges and motivating followers</li>\n	<li>Leadership styles and leading followers</li>\n	<li>Communicating effectively with employees</li>\n	<li>Coaching employees for stronger performance</li>\n</ul>\nThis seminar will earn 7 CEU&#39\;s.&nbsp\;
LOCATION:Weslaco Business Visitor & Event Center 275 S. Texas
UID:e.1244.6706
SEQUENCE:3
DTSTAMP:20260423T130114Z
URL:https://business.weslaco.com/events/details/world-class-training-seminar-successful-supervisor-08-04-2015-6706
END:VEVENT

END:VCALENDAR
