BEGIN:VCALENDAR
VERSION:2.0
PRODID:-//ChamberMaster//Event Calendar 2.0//EN
METHOD:PUBLISH
X-PUBLISHED-TTL:P3D
REFRESH-INTERVAL:P3D
CALSCALE:GREGORIAN
BEGIN:VEVENT
DTSTART:20140526T190000Z
DTEND:20140526T200000Z
X-MICROSOFT-CDO-ALLDAYEVENT:FALSE
SUMMARY:WRH Stroke and Parkinson's Support Group
DESCRIPTION:Come and join us for our Stroke and Parkison's Support Group!
X-ALT-DESC;FMTTYPE=text/html:Come and join us for our Stroke and Parkison&#39\;s Support Group!
LOCATION:Weslaco Rehab Hospital 906 S James St. Weslaco\, TX 78596
UID:e.1244.5898
SEQUENCE:3
DTSTAMP:20260424T141515Z
URL:https://business.weslaco.com/events/details/wrh-stroke-and-parkinson-s-support-group-05-26-2014-5898
END:VEVENT

END:VCALENDAR
