BEGIN:VCALENDAR
VERSION:2.0
PRODID:-//ChamberMaster//Event Calendar 2.0//EN
METHOD:PUBLISH
X-PUBLISHED-TTL:P3D
REFRESH-INTERVAL:P3D
CALSCALE:GREGORIAN
BEGIN:VEVENT
DTSTART:20180807T143000Z
DTEND:20180807T160000Z
X-MICROSOFT-CDO-ALLDAYEVENT:FALSE
SUMMARY:Wycotax seminar - 10 Tips from part time to full time entrepreneur
DESCRIPTION:Join us for this free seminar presented by WYCOTAX free e$timax.\n\n\n\n- Know the right ATTITUDE to success\n\n- Self-employed vs. ENTREPRENEUR\n\n- Hobbies of self-made MILLIONAIRES
X-ALT-DESC;FMTTYPE=text/html:<div class="_62hs _4-u3">\n<div class="_63es _63et">\n<div class="_63eu">\n<div class="_63ew" data-testid="event-permalink-details"><span>Join us for this free seminar presented by WYCOTAX free e$timax.<br />\n<br />\n- Know the right ATTITUDE to success<br />\n- Self-employed vs. ENTREPRENEUR<br />\n- Hobbies of self-made MILLIONAIRES</span></div>\n</div>\n</div>\n</div>\n
LOCATION:Weslaco Business Visitor & Event Center 275 S. Kansas
UID:e.1244.16953
SEQUENCE:3
DTSTAMP:20260421T025458Z
URL:https://business.weslaco.com/events/details/wycotax-seminar-10-tips-from-part-time-to-full-time-entrepreneur-16953
END:VEVENT

END:VCALENDAR
