BEGIN:VCALENDAR
VERSION:2.0
PRODID:-//ChamberMaster//Event Calendar 2.0//EN
METHOD:PUBLISH
X-PUBLISHED-TTL:P3D
REFRESH-INTERVAL:P3D
CALSCALE:GREGORIAN
BEGIN:VEVENT
DTSTART:20200603T160000Z
DTEND:20200603T170000Z
X-MICROSOFT-CDO-ALLDAYEVENT:FALSE
SUMMARY:WYCOTAX Seminar: Últimas noticias sobre los préstamos EIDL de la SBA
DESCRIPTION:Con los cambios continuos e interminables en el proyecto de Ley CARES\, no se sorprender  de que la nueva regulaci n de hoy no sea la misma la pr xima semana. \n\n\n\nLa pandemia de coronavirus ha provocado que muchas peque as empresas cierren temporalmente. Tanto los propietarios como los empleados se ven afectados por este evento. Como nadie sabe cu ndo terminar  esto\, todos est n encontrando su propio camino para recuperar las p rdidas ocasionadas por el cierre temporal de sus empresas y empleos. El gobierno y otras organizaciones tambi n est n ayudando a resolver la crisis al brindar asistencia tanto a los propietarios de peque as empresas como aquellos que se quedaron sin trabajo a trav s del proyecto de ley CARES Act. \n\n\n\nLos espectadores pueden unirse a nosotros en Zoom o escribir sus preguntas en las secciones de comentarios de YouTube y Facebook.
X-ALT-DESC;FMTTYPE=text/html:<span style="color: rgb(29\, 33\, 41)\; font-family: Helvetica\, Arial\, sans-serif\; font-size: 14px\; white-space: pre-wrap\;">Con los cambios continuos e interminables en el proyecto de Ley CARES\, no se sorprender&aacute\; de que la nueva regulaci&oacute\;n de hoy no sea la misma la pr&oacute\;xima semana. </span><br style="color: rgb(29\, 33\, 41)\; font-family: Helvetica\, Arial\, sans-serif\; font-size: 14px\; white-space: pre-wrap\;" />\n<br style="color: rgb(29\, 33\, 41)\; font-family: Helvetica\, Arial\, sans-serif\; font-size: 14px\; white-space: pre-wrap\;" />\n<span style="color: rgb(29\, 33\, 41)\; font-family: Helvetica\, Arial\, sans-serif\; font-size: 14px\; white-space: pre-wrap\;">La pandemia de coronavirus ha provocado que muchas peque&ntilde\;as empresas cierren temporalmente. Tanto los propietarios como los empleados se ven afectados por este evento. Como nadie sabe cu&aacute\;ndo terminar&aacute\; esto\, todos est&aacute\;n encontrando su propio camino para recuperar las p&eacute\;rdidas ocasionadas por el cierre temporal de sus empresas y empleos. El gobierno y otras organizaciones tambi&eacute\;n est&aacute\;n ayudando a resolver la crisis al brindar asistencia tanto a los propietarios de peque&ntilde\;as empresas como aquellos que se quedaron sin trabajo a trav&eacute\;s del proyecto de ley CARES Act. </span><br style="color: rgb(29\, 33\, 41)\; font-family: Helvetica\, Arial\, sans-serif\; font-size: 14px\; white-space: pre-wrap\;" />\n<br style="color: rgb(29\, 33\, 41)\; font-family: Helvetica\, Arial\, sans-serif\; font-size: 14px\; white-space: pre-wrap\;" />\n<span style="color: rgb(29\, 33\, 41)\; font-family: Helvetica\, Arial\, sans-serif\; font-size: 14px\; white-space: pre-wrap\;">Los espectadores pueden unirse a nosotros en Zoom o escribir sus preguntas en las secciones de comentarios de YouTube y Facebook.</span>
LOCATION:
UID:e.1244.19381
SEQUENCE:3
DTSTAMP:20260419T142545Z
URL:https://business.weslaco.com/events/details/wycotax-seminar-&#250;ltimas-noticias-sobre-los-pr&#233;stamos-eidl-de-la-sba-19381
END:VEVENT

END:VCALENDAR
