BEGIN:VCALENDAR
VERSION:2.0
PRODID:-//ChamberMaster//Event Calendar 2.0//EN
METHOD:PUBLISH
X-PUBLISHED-TTL:P3D
REFRESH-INTERVAL:P3D
CALSCALE:GREGORIAN
BEGIN:VEVENT
DTSTART:20200521T150000Z
DTEND:20200521T160000Z
X-MICROSOFT-CDO-ALLDAYEVENT:FALSE
SUMMARY:Wycotax Thursday Live Chat
DESCRIPTION:In a world of changing environment\, business not only needs to rely on different funding available. More than PPP\, SBA debt relief and EIDL\, businesses need to rely on social capital to thrive in this COVID-19 dilemma. \n\nFeat. Michael Wilson\, Professional Trainer/Coach in CM Institute of Leadership\n\n\n\nHosted by Christopher Wycoco\, CEO and founder of WYCOTAX
X-ALT-DESC;FMTTYPE=text/html:<p>In a world of changing environment\, business not only needs to rely on different funding available. More than PPP\, SBA debt relief and EIDL\, businesses need to rely on social capital to thrive in this COVID-19 dilemma.&nbsp\;</p>\n\n<p>Feat. Michael Wilson\, Professional Trainer/Coach in CM Institute of Leadership<br />\n<br />\nHosted by Christopher Wycoco\, CEO and founder of WYCOTAX</p>\n
LOCATION:Register: https://www.eventbrite.com/e/how-your-business-can-survive-through-social-capital-tickets-105420453414
UID:e.1244.19374
SEQUENCE:3
DTSTAMP:20260419T154316Z
URL:https://business.weslaco.com/events/details/wycotax-thursday-live-chat-19374
END:VEVENT

END:VCALENDAR
