BEGIN:VCALENDAR
VERSION:2.0
PRODID:-//ChamberMaster//Event Calendar 2.0//EN
METHOD:PUBLISH
X-PUBLISHED-TTL:P3D
REFRESH-INTERVAL:P3D
CALSCALE:GREGORIAN
BEGIN:VEVENT
DTSTART:20200610T150000Z
DTEND:20200610T160000Z
X-MICROSOFT-CDO-ALLDAYEVENT:FALSE
SUMMARY:WYCOTAX Wednesday Webinar
DESCRIPTION:The Employee Retention Credit under the CARES Act encourages businesses to keep employees on their payroll. The following topics will be covered: \n\n\n	What is employee retention credit?\n	How is employee retention tax credit calculated?\n	Who is eligible for the Employee Retention Credit?
X-ALT-DESC;FMTTYPE=text/html:<p>The Employee Retention Credit under the CARES Act encourages businesses to keep employees on their payroll. The following topics will be covered:&nbsp\;</p>\n\n<ul>\n	<li>What is employee retention credit?</li>\n	<li>How is employee retention tax credit calculated?</li>\n	<li>Who is eligible for the Employee Retention Credit?</li>\n</ul>\n
LOCATION:www.facebook.com/wycotax
UID:e.1244.19393
SEQUENCE:3
DTSTAMP:20260419T141820Z
URL:https://business.weslaco.com/events/details/wycotax-wednesday-webinar-19393
END:VEVENT

END:VCALENDAR
