BEGIN:VCALENDAR
VERSION:2.0
PRODID:-//ChamberMaster//Event Calendar 2.0//EN
METHOD:PUBLISH
X-PUBLISHED-TTL:P3D
REFRESH-INTERVAL:P3D
CALSCALE:GREGORIAN
BEGIN:VEVENT
DTSTART:20160405T213000Z
DTEND:20160405T223000Z
X-MICROSOFT-CDO-ALLDAYEVENT:FALSE
SUMMARY:XCell Orthopaedics/James Plaza Groundbreaking Ceremony
DESCRIPTION:
X-ALT-DESC;FMTTYPE=text/html:
LOCATION:1010 S. James St.(next to Dr. McDougal's office) Weslaco
UID:e.1244.10938
SEQUENCE:3
DTSTAMP:20260423T005810Z
URL:https://business.weslaco.com/events/details/xcell-orthopaedics-james-plaza-groundbreaking-ceremony-04-05-2016-10938
END:VEVENT

END:VCALENDAR
