BEGIN:VCALENDAR
VERSION:2.0
PRODID:-//ChamberMaster//Event Calendar 2.0//EN
METHOD:PUBLISH
X-PUBLISHED-TTL:P3D
REFRESH-INTERVAL:P3D
CALSCALE:GREGORIAN
BEGIN:VEVENT
DTSTART:20180705T220000Z
DTEND:20180706T000000Z
X-MICROSOFT-CDO-ALLDAYEVENT:FALSE
SUMMARY:XCell Orthopaedics/Weslaco Raquetball Club Ribbon Cutting
DESCRIPTION:
X-ALT-DESC;FMTTYPE=text/html:
LOCATION:1110 James St. Weslaco\, TX
UID:e.1244.16919
SEQUENCE:3
DTSTAMP:20260421T044420Z
URL:https://business.weslaco.com/events/details/xcell-orthopaedics-weslaco-raquetball-club-ribbon-cutting-16919
END:VEVENT

END:VCALENDAR
