BEGIN:VCALENDAR
VERSION:2.0
PRODID:-//ChamberMaster//Event Calendar 2.0//EN
METHOD:PUBLISH
X-PUBLISHED-TTL:P3D
REFRESH-INTERVAL:P3D
CALSCALE:GREGORIAN
BEGIN:VEVENT
DTSTART:20170720T000000Z
DTEND:20170720T010000Z
X-MICROSOFT-CDO-ALLDAYEVENT:FALSE
SUMMARY:YOGA for Nature at Frontera Audubon
DESCRIPTION:JULY YOGA!     Wednesdays 7-8 pm\n\n\n\n$10 donation | bring your yoga mat | towel | water\n\n\n\nYoga+Henna Lion has joined Frontera Audubon for\n\n"YOGA FOR NATURE"\n\n\n\n20% OF THE PROCEEDS WILL BE DONATED TO THE PRESERVATION OF OUR BEAUTIFUL NATIVE SPECIES ON THIS TEXAS HISTORIC LANDMARK
X-ALT-DESC;FMTTYPE=text/html:<span class="_4n-j _3cht fsl" data-testid="event-permalink-details">JULY YOGA! &#127796\;&#9728\;&#65039\; Wednesdays 7-8 pm<br />\n<br />\n$10 donation | bring your yoga mat | towel | water<br />\n<br />\nYoga+Henna Lion has joined Frontera Audubon for<br />\n&quot\;YOGA FOR NATURE&quot\;<br />\n<br />\n20% OF THE PROCEEDS WILL BE DONATED TO THE PRESERVATION OF OUR BEAUTIFUL NATIVE SPECIES ON THIS TEXAS HISTORIC LANDMARK</span>
LOCATION:1101 S. Texas Blvd. Weslaco\, TX
UID:e.1244.12758
SEQUENCE:3
DTSTAMP:20260421T235315Z
URL:https://business.weslaco.com/events/details/yoga-for-nature-at-frontera-audubon-07-19-2017-12758
END:VEVENT

END:VCALENDAR
