BEGIN:VCALENDAR
VERSION:2.0
PRODID:-//ChamberMaster//Event Calendar 2.0//EN
METHOD:PUBLISH
X-PUBLISHED-TTL:P3D
REFRESH-INTERVAL:P3D
CALSCALE:GREGORIAN
BEGIN:VEVENT
DTSTART:20150726T003000Z
DTEND:20150726T013000Z
X-MICROSOFT-CDO-ALLDAYEVENT:FALSE
SUMMARY:Yoga on the Lawn at Frontera Audubon
DESCRIPTION:Join us for our first-ever Yoga on the Lawn\, an hour-long session with instructor Jackelin Trevino. She will lead a Yoga for Resilience program designed to provide any person with the stress relieving\, relaxing benefits of yoga. You do not have to be flexible or fit to do yoga! Poses can be modified for any body type and skill level. More info coming soon.
X-ALT-DESC;FMTTYPE=text/html:Join us for our first-ever Yoga on the Lawn\, an hour-long session with instructor Jackelin Trevino. She will lead a Yoga for Resilience program designed to provide any person with the stress relieving\, relaxing benefits of yoga. You do not have to be flexible or fit to do yoga! Poses&nbsp\;can be modified for any body type and skill level. More info coming soon.
LOCATION:Frontera Audubon 1101 S. Texas Blvd.
UID:e.1244.6698
SEQUENCE:3
DTSTAMP:20260423T150239Z
URL:https://business.weslaco.com/events/details/yoga-on-the-lawn-at-frontera-audubon-07-25-2015-6698
END:VEVENT

END:VCALENDAR
