BEGIN:VCALENDAR
VERSION:2.0
PRODID:-//ChamberMaster//Event Calendar 2.0//EN
METHOD:PUBLISH
X-PUBLISHED-TTL:P3D
REFRESH-INTERVAL:P3D
CALSCALE:GREGORIAN
BEGIN:VEVENT
DTSTART:20161202T000000Z
DTEND:20161202T011500Z
X-MICROSOFT-CDO-ALLDAYEVENT:FALSE
SUMMARY:Yoga on the Lawn at Frontera Audubon
DESCRIPTION:Yoga on the Lawn with Jackelin continues at Frontera Audubon every Thursday at a new time from 6- 7:15 PM. Cost is $10 per person. In case of rain\, the event will be canceled and resume the following week!\n\n\n\nJackelin leads a Yoga for Resilience program designed to provide any person with the stress relieving\, relaxing benefits of yoga. You do not have to be flexible or fit to do yoga! Beginners are always welcomed. Poses can be modified for any body type and skill level. \n\n\n\nPlease arrive five to ten minutes early to pay fee inside the Visitors Center and set up your mat on the Lawn. Parking is available behind the Visitors center (down the long driveway to the back). The event is first come\, first served. We have plenty of room on the lawn! Please join us! If you have further questions\, call us at 956-968-3275.\n\n\n\nCome and Yoga with us!
X-ALT-DESC;FMTTYPE=text/html:<span style="color: rgb(75\, 79\, 86)\; font-family: helvetica\, arial\, sans-serif\; font-size: 14px\; line-height: 18.76px\;">Yoga on the Lawn with Jackelin continues at Frontera Audubon every Thursday at a new time from 6- 7:15 PM. Cost is $10 per person. In case of rain\, the event will be canceled and resume the following week!</span><br style="color: rgb(75\, 79\, 86)\; font-family: helvetica\, arial\, sans-serif\; font-size: 14px\; line-height: 18.76px\;" />\n<br style="color: rgb(75\, 79\, 86)\; font-family: helvetica\, arial\, sans-serif\; font-size: 14px\; line-height: 18.76px\;" />\n<span style="color: rgb(75\, 79\, 86)\; font-family: helvetica\, arial\, sans-serif\; font-size: 14px\; line-height: 18.76px\;">Jackelin leads a Yoga for Resilience program designed to provide any person with the stress relieving\, relaxing benefits of yoga. You do not have to be flexible or fit to do yoga! Beginners are always welcomed. Poses can be modified for any body type and skill level.&nbsp\;</span><br style="color: rgb(75\, 79\, 86)\; font-family: helvetica\, arial\, sans-serif\; font-size: 14px\; line-height: 18.76px\;" />\n<br style="color: rgb(75\, 79\, 86)\; font-family: helvetica\, arial\, sans-serif\; font-size: 14px\; line-height: 18.76px\;" />\n<span style="color: rgb(75\, 79\, 86)\; font-family: helvetica\, arial\, sans-serif\; font-size: 14px\; line-height: 18.76px\;">Please arrive five to ten minutes early to pay fee inside the Visitors Center and set up your mat on the Lawn. Parking is available behind the Visitors center (down the long driveway to the back). The event is first come\, first served. We have plenty of room on the lawn! Please join us! If you have further questions\, call us at 956-968-3275.</span><br style="color: rgb(75\, 79\, 86)\; font-family: helvetica\, arial\, sans-serif\; font-size: 14px\; line-height: 18.76px\;" />\n<br style="color: rgb(75\, 79\, 86)\; font-family: helvetica\, arial\, sans-serif\; font-size: 14px\; line-height: 18.76px\;" />\n<span style="color: rgb(75\, 79\, 86)\; font-family: helvetica\, arial\, sans-serif\; font-size: 14px\; line-height: 18.76px\;">Come and Yoga with us!</span>
LOCATION:Frontera Audubon 1101 S. Texas
UID:e.1244.11021
SEQUENCE:3
DTSTAMP:20260422T115727Z
URL:https://business.weslaco.com/events/details/yoga-on-the-lawn-at-frontera-audubon-12-01-2016-11021
END:VEVENT

END:VCALENDAR
