BEGIN:VCALENDAR
VERSION:2.0
PRODID:-//ChamberMaster//Event Calendar 2.0//EN
METHOD:PUBLISH
X-PUBLISHED-TTL:P3D
REFRESH-INTERVAL:P3D
CALSCALE:GREGORIAN
BEGIN:VEVENT
DTSTART:20180728T190000Z
DTEND:20180728T210000Z
X-MICROSOFT-CDO-ALLDAYEVENT:FALSE
SUMMARY:Yoga Workshop at Frontera Audubon
DESCRIPTION:This hour and a half workshop will be filled with tips and instructions to not only help you improve your yoga experience\, but will help you protect yourself while practicing yoga. Sign up today!!!
X-ALT-DESC;FMTTYPE=text/html:This hour and a half workshop will be filled with tips and instructions to not only help you improve your yoga experience\, but will help you protect yourself while practicing yoga. Sign up today!!!
LOCATION:Frontera Audubon 1101 S. Texas
UID:e.1244.16944
SEQUENCE:3
DTSTAMP:20260421T041619Z
URL:https://business.weslaco.com/events/details/yoga-workshop-at-frontera-audubon-16944
END:VEVENT

END:VCALENDAR
